BEGIN:VCALENDAR
VERSION:2.0
PRODID:-//Rockland St. Mary Parish Council//Meeting Calendar//EN
CALSCALE:GREGORIAN
METHOD:PUBLISH
BEGIN:VEVENT
UID:70579-20261104@rocklandstmarywithhellington-pc.gov.uk
DTSTAMP:20260423T103055Z
DTSTART;VALUE=DATE:20261104
DTEND;VALUE=DATE:20261105
SUMMARY:Council Meeting &#8211\\; 4 November 2026
DESCRIPTION:Full Council Meeting\nView details: https://rocklandstmarywithhellington-pc.gov.uk/meetings/council-meeting-4-november-2026/
URL:https://rocklandstmarywithhellington-pc.gov.uk/meetings/council-meeting-4-november-2026/
END:VEVENT
END:VCALENDAR
