BEGIN:VCALENDAR
VERSION:2.0
PRODID:-//Rockland St. Mary Parish Council//Meeting Calendar//EN
CALSCALE:GREGORIAN
METHOD:PUBLISH
BEGIN:VEVENT
UID:70578-20261007@rocklandstmarywithhellington-pc.gov.uk
DTSTAMP:20260419T133810Z
DTSTART;VALUE=DATE:20261007
DTEND;VALUE=DATE:20261008
SUMMARY:Council Meeting &#8211\\; 7 October 2026
DESCRIPTION:Full Council Meeting\nView details: https://rocklandstmarywithhellington-pc.gov.uk/meetings/council-meeting-7-october-2026/
URL:https://rocklandstmarywithhellington-pc.gov.uk/meetings/council-meeting-7-october-2026/
END:VEVENT
END:VCALENDAR
