BEGIN:VCALENDAR
VERSION:2.0
PRODID:-//Rockland St. Mary Parish Council//Meeting Calendar//EN
CALSCALE:GREGORIAN
METHOD:PUBLISH
BEGIN:VEVENT
UID:70571-20260204@rocklandstmarywithhellington-pc.gov.uk
DTSTAMP:20260425T003012Z
DTSTART;VALUE=DATE:20260204
DTEND;VALUE=DATE:20260205
SUMMARY:Council Meeting &#8211\\; 4 February 2026
DESCRIPTION:Full Council Meeting\nView details: https://rocklandstmarywithhellington-pc.gov.uk/meetings/council-meeting-4-february-2026/
URL:https://rocklandstmarywithhellington-pc.gov.uk/meetings/council-meeting-4-february-2026/
END:VEVENT
END:VCALENDAR
