BEGIN:VCALENDAR
VERSION:2.0
PRODID:-//Rockland St. Mary Parish Council//Meeting Calendar//EN
CALSCALE:GREGORIAN
METHOD:PUBLISH
BEGIN:VEVENT
UID:70570-20260107@rocklandstmarywithhellington-pc.gov.uk
DTSTAMP:20260424T224426Z
DTSTART;VALUE=DATE:20260107
DTEND;VALUE=DATE:20260108
SUMMARY:Council Meeting &#8211\\; 7 January 2026
DESCRIPTION:Full Council Meeting\nView details: https://rocklandstmarywithhellington-pc.gov.uk/meetings/council-meeting-7-january-2026/
URL:https://rocklandstmarywithhellington-pc.gov.uk/meetings/council-meeting-7-january-2026/
END:VEVENT
END:VCALENDAR
