BEGIN:VCALENDAR
VERSION:2.0
PRODID:-//Rockland St. Mary Parish Council//Meeting Calendar//EN
CALSCALE:GREGORIAN
METHOD:PUBLISH
BEGIN:VEVENT
UID:70508-20250108@rocklandstmarywithhellington-pc.gov.uk
DTSTAMP:20260424T235916Z
DTSTART;VALUE=DATE:20250108
DTEND;VALUE=DATE:20250109
SUMMARY:Council Meeting &#8211\\; 8 January 2025
DESCRIPTION:Full Council Meeting\nView details: https://rocklandstmarywithhellington-pc.gov.uk/meetings/council-meeting-8-january-2025/
URL:https://rocklandstmarywithhellington-pc.gov.uk/meetings/council-meeting-8-january-2025/
END:VEVENT
END:VCALENDAR
