BEGIN:VCALENDAR
VERSION:2.0
PRODID:-//Rockland St. Mary Parish Council//Meeting Calendar//EN
CALSCALE:GREGORIAN
METHOD:PUBLISH
BEGIN:VEVENT
UID:70505-20250205@rocklandstmarywithhellington-pc.gov.uk
DTSTAMP:20260424T221558Z
DTSTART;VALUE=DATE:20250205
DTEND;VALUE=DATE:20250206
SUMMARY:Council Meeting &#8211\\; 5 February 2025
DESCRIPTION:Full Council Meeting\nView details: https://rocklandstmarywithhellington-pc.gov.uk/meetings/council-meeting-5-february-2025/
URL:https://rocklandstmarywithhellington-pc.gov.uk/meetings/council-meeting-5-february-2025/
END:VEVENT
END:VCALENDAR
