BEGIN:VCALENDAR
VERSION:2.0
PRODID:-//Rockland St. Mary Parish Council//Meeting Calendar//EN
CALSCALE:GREGORIAN
METHOD:PUBLISH
BEGIN:VEVENT
UID:70499-20250305@rocklandstmarywithhellington-pc.gov.uk
DTSTAMP:20260424T204444Z
DTSTART;VALUE=DATE:20250305
DTEND;VALUE=DATE:20250306
SUMMARY:Council Meeting &#8211\\; 5 March 2025
DESCRIPTION:Full Council Meeting\nView details: https://rocklandstmarywithhellington-pc.gov.uk/meetings/council-meeting-5-march-2025/
URL:https://rocklandstmarywithhellington-pc.gov.uk/meetings/council-meeting-5-march-2025/
END:VEVENT
END:VCALENDAR
