BEGIN:VCALENDAR
VERSION:2.0
PRODID:-//Rockland St. Mary Parish Council//Meeting Calendar//EN
CALSCALE:GREGORIAN
METHOD:PUBLISH
BEGIN:VEVENT
UID:70493-20250402@rocklandstmarywithhellington-pc.gov.uk
DTSTAMP:20260424T191500Z
DTSTART;VALUE=DATE:20250402
DTEND;VALUE=DATE:20250403
SUMMARY:Council Meeting &#8211\\; 2 April 2025
DESCRIPTION:Full Council Meeting\nView details: https://rocklandstmarywithhellington-pc.gov.uk/meetings/council-meeting-2-april-2025/
URL:https://rocklandstmarywithhellington-pc.gov.uk/meetings/council-meeting-2-april-2025/
END:VEVENT
END:VCALENDAR
