BEGIN:VCALENDAR
VERSION:2.0
PRODID:-//Rockland St. Mary Parish Council//Meeting Calendar//EN
CALSCALE:GREGORIAN
METHOD:PUBLISH
BEGIN:VEVENT
UID:70490-20250507@rocklandstmarywithhellington-pc.gov.uk
DTSTAMP:20260424T172834Z
DTSTART;VALUE=DATE:20250507
DTEND;VALUE=DATE:20250508
SUMMARY:Council Meeting &#8211\\; 7 May 2025
DESCRIPTION:Full Council Meeting\nView details: https://rocklandstmarywithhellington-pc.gov.uk/meetings/council-meeting-7-may-2025/
URL:https://rocklandstmarywithhellington-pc.gov.uk/meetings/council-meeting-7-may-2025/
END:VEVENT
END:VCALENDAR
