BEGIN:VCALENDAR
VERSION:2.0
PRODID:-//Rockland St. Mary Parish Council//Meeting Calendar//EN
CALSCALE:GREGORIAN
METHOD:PUBLISH
BEGIN:VEVENT
UID:70487-20250604@rocklandstmarywithhellington-pc.gov.uk
DTSTAMP:20260424T155207Z
DTSTART;VALUE=DATE:20250604
DTEND;VALUE=DATE:20250605
SUMMARY:Council Meeting &#8211\\; 4 June 2025
DESCRIPTION:Full Council Meeting\nView details: https://rocklandstmarywithhellington-pc.gov.uk/meetings/council-meeting-4-june-2025/
URL:https://rocklandstmarywithhellington-pc.gov.uk/meetings/council-meeting-4-june-2025/
END:VEVENT
END:VCALENDAR
