BEGIN:VCALENDAR
VERSION:2.0
PRODID:-//Rockland St. Mary Parish Council//Meeting Calendar//EN
CALSCALE:GREGORIAN
METHOD:PUBLISH
BEGIN:VEVENT
UID:70484-20250702@rocklandstmarywithhellington-pc.gov.uk
DTSTAMP:20260424T142028Z
DTSTART;VALUE=DATE:20250702
DTEND;VALUE=DATE:20250703
SUMMARY:Council Meeting &#8211\\; 2 July 2025
DESCRIPTION:Full Council Meeting\nView details: https://rocklandstmarywithhellington-pc.gov.uk/meetings/council-meeting-2-july-2025/
URL:https://rocklandstmarywithhellington-pc.gov.uk/meetings/council-meeting-2-july-2025/
END:VEVENT
END:VCALENDAR
