BEGIN:VCALENDAR
VERSION:2.0
PRODID:-//Rockland St. Mary Parish Council//Meeting Calendar//EN
CALSCALE:GREGORIAN
METHOD:PUBLISH
BEGIN:VEVENT
UID:70481-20250903@rocklandstmarywithhellington-pc.gov.uk
DTSTAMP:20260424T160145Z
DTSTART;VALUE=DATE:20250903
DTEND;VALUE=DATE:20250904
SUMMARY:Council Meeting &#8211\\; 3 September 2025
DESCRIPTION:Full Council Meeting\nView details: https://rocklandstmarywithhellington-pc.gov.uk/meetings/council-meeting-3-september-2025/
URL:https://rocklandstmarywithhellington-pc.gov.uk/meetings/council-meeting-3-september-2025/
END:VEVENT
END:VCALENDAR
