BEGIN:VCALENDAR
VERSION:2.0
PRODID:-//Rockland St. Mary Parish Council//Meeting Calendar//EN
CALSCALE:GREGORIAN
METHOD:PUBLISH
BEGIN:VEVENT
UID:70478-20251001@rocklandstmarywithhellington-pc.gov.uk
DTSTAMP:20260424T174346Z
DTSTART;VALUE=DATE:20251001
DTEND;VALUE=DATE:20251002
SUMMARY:Council Meeting &#8211\\; 1 October 2025
DESCRIPTION:Full Council Meeting\nView details: https://rocklandstmarywithhellington-pc.gov.uk/meetings/council-meeting-1-october-2025/
URL:https://rocklandstmarywithhellington-pc.gov.uk/meetings/council-meeting-1-october-2025/
END:VEVENT
END:VCALENDAR
